BEGIN:VCALENDAR
VERSION:2.0
PRODID:-//York River Roundtable - ECPv6.15.20//NONSGML v1.0//EN
CALSCALE:GREGORIAN
METHOD:PUBLISH
X-WR-CALNAME:York River Roundtable
X-ORIGINAL-URL:https://yorkriverroundtable.org
X-WR-CALDESC:Events for York River Roundtable
REFRESH-INTERVAL;VALUE=DURATION:PT1H
X-Robots-Tag:noindex
X-PUBLISHED-TTL:PT1H
BEGIN:VTIMEZONE
TZID:UTC
BEGIN:STANDARD
TZOFFSETFROM:+0000
TZOFFSETTO:+0000
TZNAME:UTC
DTSTART:20230101T000000
END:STANDARD
END:VTIMEZONE
BEGIN:VEVENT
DTSTART;TZID=UTC:20241101T083000
DTEND;TZID=UTC:20241101T110000
DTSTAMP:20260425T134138
CREATED:20241025T142321Z
LAST-MODIFIED:20241025T142321Z
UID:3444-1730449800-1730458800@yorkriverroundtable.org
SUMMARY:Deep Dive into Post-Construction BMP (P-BMP) Inspections
DESCRIPTION:All post-construction stormwater best management practices (P-BMPs) need continual maintenance and monitoring to remain functional and in compliance with both the approved plans and the locality’s permit. These P-BMPs range in design from the 17-proprietary designs to the many non-proprietary designs featured in the Virgina Stormwater Management Handbook. Without regular maintenance these facilities can quickly lose their functionality and will no longer adequately treat the stormwater that drains to them. \nDuring this webinar\, VA DEQ will discuss the life cycle of these P-BMPs (from construction to post-construction)\, common maintenance Issues\, identification of functional components\, and communication with the responsible party. Register here!
URL:https://yorkriverroundtable.org/event/deep-dive-into-post-construction-bmp-p-bmp-inspections/
END:VEVENT
BEGIN:VEVENT
DTSTART;TZID=UTC:20241026T180000
DTEND;TZID=UTC:20241026T210000
DTSTAMP:20260425T134138
CREATED:20240905T185130Z
LAST-MODIFIED:20240905T185130Z
UID:3365-1729965600-1729976400@yorkriverroundtable.org
SUMMARY:Stargazing at York River State Park
DESCRIPTION:Join the Virginia Peninsula Stargazers as they point out the different items of our solar system in the night sky.  They will have the equipment.  Just bring your curiosity.  This program is dependent on the clarity of the viewing sky on the night it occurs. Learn more information here!
URL:https://yorkriverroundtable.org/event/stargazing-at-york-river-state-park-3/
END:VEVENT
BEGIN:VEVENT
DTSTART;TZID=UTC:20241024T190000
DTEND;TZID=UTC:20241024T200000
DTSTAMP:20260425T134138
CREATED:20240904T132309Z
LAST-MODIFIED:20240904T132309Z
UID:3327-1729796400-1729800000@yorkriverroundtable.org
SUMMARY:VIMS After Hours: Ghost Forests\, Zombie Shrimp\, & Space Fish: Strange & True Tales Of The Salt Marsh
DESCRIPTION:Why do zombie crustaceans mindlessly wander the marsh? Why can’t a snail let go of its past? \nJoin VIMS on Thursday\, October 24 for a special Halloween-themed After Hours lecture where Dr. David Johnson of VIMS answers these questions and shares stories of the strange animals wonderfully adapted to life in a salt marsh.
URL:https://yorkriverroundtable.org/event/vims-after-hours-ghost-forests-zombie-shrimp-space-fish-strange-true-tales-of-the-salt-marsh/
END:VEVENT
BEGIN:VEVENT
DTSTART;TZID=UTC:20241023T183000
DTEND;TZID=UTC:20241023T193000
DTSTAMP:20260425T134138
CREATED:20241003T185033Z
LAST-MODIFIED:20241003T185033Z
UID:3415-1729708200-1729711800@yorkriverroundtable.org
SUMMARY:VIRTUAL Community Open Forum on the Virginia Ocean Plan
DESCRIPTION:The Virginia Coastal Zone Management Program is pleased to invite you to a Virginia Ocean Plan Virtual Community Meeting to share information about the planning process and providing you an opportunity to offer your input. Register here! \nYou may also provide input through: \n* a short survey at: https://tinyurl.com/VOPForm \n* leaving us a voicemail or text at (804) 420-8457 \n* emailing virginiaoceanplan@gmail.com.
URL:https://yorkriverroundtable.org/event/virtual-community-open-forum-on-the-virginia-ocean-plan/
END:VEVENT
BEGIN:VEVENT
DTSTART;TZID=UTC:20241022T183000
DTEND;TZID=UTC:20241022T200000
DTSTAMP:20260425T134138
CREATED:20240904T142329Z
LAST-MODIFIED:20240904T142329Z
UID:3329-1729621800-1729627200@yorkriverroundtable.org
SUMMARY:Webinar: DEQ Electronic Resources and Tools
DESCRIPTION:The Virginia Department of Environmental Quality creates and collects large quantities of environmental data\, which is made available through a variety of databases\, mapping tools\, and dashboards. One of the ways we demonstrate our commitment to public outreach\, involvement and transparency is to provide direct access to environmental data for all residents and stakeholders in the Commonwealth. In this webinar\, we will provide an overview of several of our digital tools\, including our Geographic Information Systems (GIS) tools\, Story Maps\, and our award-winning Permitting Enhancement and Evaluation Platform. Join us to learn more!\n  \nLink to Register: https://attendee.gotowebinar.com/register/1263243642241405270
URL:https://yorkriverroundtable.org/event/webinar-deq-electronic-resources-and-tools/
END:VEVENT
BEGIN:VEVENT
DTSTART;VALUE=DATE:20241018
DTEND;VALUE=DATE:20241021
DTSTAMP:20260425T134138
CREATED:20240513T192030Z
LAST-MODIFIED:20240513T192030Z
UID:3026-1729209600-1729468799@yorkriverroundtable.org
SUMMARY:2024 Chesapeake Watershed Forum
DESCRIPTION:SAVE THE DATE: THE ALLIANCE FOR THE CHESAPEAKE BAY WILL HOLD THE 19TH ANNUAL CHESAPEAKE WATERSHED FORUM AT THE NATIONAL CONSERVATION TRAINING CENTER (NCTC) IN SHEPHERDSTOWN\, WV ON OCTOBER 18-20\, 2024.\n\n\nThis watershed-wide event reaches over 400 restoration and conservation practitioners annually to inspire and empower local action towards clean water. \n\n\n\nRequest for Session Proposals Open: April 1\nRequest for Session Proposals Close: May 19\nRegistration Opens: August 5\n\nLEARN MORE ABOUT THE FORUM!
URL:https://yorkriverroundtable.org/event/2024-chesapeake-watershed-forum/
END:VEVENT
BEGIN:VEVENT
DTSTART;VALUE=DATE:20241017
DTEND;VALUE=DATE:20241021
DTSTAMP:20260425T134138
CREATED:20240903T153036Z
LAST-MODIFIED:20240903T153036Z
UID:3309-1729123200-1729468799@yorkriverroundtable.org
SUMMARY:Catch the King
DESCRIPTION:Learn more and sign up for more information at https://wetlandswatch.org/catchtheking!
URL:https://yorkriverroundtable.org/event/catch-the-king/
END:VEVENT
BEGIN:VEVENT
DTSTART;TZID=UTC:20241016T180000
DTEND;TZID=UTC:20241016T200000
DTSTAMP:20260425T134138
CREATED:20240923T200037Z
LAST-MODIFIED:20240923T200037Z
UID:3408-1729101600-1729108800@yorkriverroundtable.org
SUMMARY:CBNERR-VA Discovery Lab - Halloween Mad Lab
DESCRIPTION:It’s time once again for the Mad Lab! This Halloween Discovery Lab will feature glowing experiments\, spooky crafts\, and\, of course\, marine science. This year’s theme is Things that Lurk in the Deep. Come find out what strange creatures live in the ocean depths\, from the midnight zone and below! This night of fun\, activities\, and learning is on October 16th from 6 – 8pm. Costumes are encouraged! Register here. \nDiscovery Labs are free\, family-friendly programs provided each month by CBNERR-VA at VIMS. Designed with elementary-aged youth and their parents in mind\, each lab focuses on a different topic related to the Chesapeake Bay and our local environment and includes exhibits\, demonstrations\, and hands-on activities as well as a short presentation (from 6:30-7:00 PM) by an expert on the topic.
URL:https://yorkriverroundtable.org/event/cbnerr-va-discovery-lab-halloween-mad-lab/
END:VEVENT
BEGIN:VEVENT
DTSTART;TZID=UTC:20241010T120000
DTEND;TZID=UTC:20241010T130000
DTSTAMP:20260425T134138
CREATED:20240925T172912Z
LAST-MODIFIED:20240925T172912Z
UID:3410-1728561600-1728565200@yorkriverroundtable.org
SUMMARY:Watershed Forestry Webinar 2: Riparian Forest Buffers
DESCRIPTION:Riparian forests provide a diversity of benefits to ecosystems and communities. Katie Brownson\, USFS Liaison to the Chesapeake Bay Program\, will provide an overview of riparian forests and their benefits\, including water quality\, climate resilience and flood mitigation. Two guest speakers will then highlight the work their organizations are doing to maintain and restore riparian forests and the on-the-ground strategies they use. Jeremy Geist of Trout Unlimited will discuss projects in the Great Lakes region that utilize approaches such as the addition of large wood in and adjacent to streams\, climate informed riparian forest plantings\, and stream channel and stream bank restoration. Craig Highfield of Alliance for the Chesapeake Bay will discuss planting new riparian forest buffers in the Chesapeake Bay region. Craig will discuss partnership strategies and conservation programs the Alliance uses to implement and maintain riparian forests. Register here!
URL:https://yorkriverroundtable.org/event/watershed-forestry-webinar-2-riparian-forest-buffers/
END:VEVENT
BEGIN:VEVENT
DTSTART;TZID=UTC:20241008T180000
DTEND;TZID=UTC:20241008T190000
DTSTAMP:20260425T134138
CREATED:20240930T220152Z
LAST-MODIFIED:20240930T220152Z
UID:3413-1728410400-1728414000@yorkriverroundtable.org
SUMMARY:Finding Peace with the Trees Along the Water
DESCRIPTION:Join Amber of Find Your Nature for a virtual webinar to learn about the benefits of streamside forests for our well-being\, the practice of ecotherapy\, and engage in experiential practices such as meditation and nature journaling in a virtual streamside forest. Bring paper and your favorite art supplies (crayons\, pens\, watercolors\, colored pencils\, etc.) and your favorite beverage to enjoy an hour centering\, creating\, and connecting with other Earth Lovers! \nRegistration is required and the Zoom link will be sent to those who register. This workshop is free\, but donations are encouraged! \nAmber Ellis is the founder of Find Your Nature and is a professional landscape architect in Virginia and has a certificate in Ecotherapy.
URL:https://yorkriverroundtable.org/event/finding-peace-with-the-trees-along-the-water/
END:VEVENT
BEGIN:VEVENT
DTSTART;TZID=UTC:20241003T103000
DTEND;TZID=UTC:20241003T160000
DTSTAMP:20260425T134138
CREATED:20240904T150045Z
LAST-MODIFIED:20240904T150045Z
UID:3344-1727951400-1727971200@yorkriverroundtable.org
SUMMARY:Chesapeake Oyster Science Symposium 2024
DESCRIPTION:The Chesapeake Oyster Alliance with support from the Chesapeake Bay Foundation is assembling an all-star lineup of oyster experts\, post-docs\, faculty\, and industry practitioners for the 2024 Chesapeake Oyster Science Symposium. Multiple panel discussions featuring over 20 speakers are intended to offer succinct presentations and ample Q&A around each topic. The Symposium will also feature a round of lightning-talks by young scientists and early career professionals (attendees may self-select to present when they register) and frequent breaks to combat the dreaded “Zoom fatigue.” Learn more and register here!
URL:https://yorkriverroundtable.org/event/chesapeake-oyster-science-symposium-2024/
END:VEVENT
BEGIN:VEVENT
DTSTART;TZID=UTC:20240928T190000
DTEND;TZID=UTC:20240928T220000
DTSTAMP:20260425T134138
CREATED:20240905T185017Z
LAST-MODIFIED:20240905T185017Z
UID:3363-1727550000-1727560800@yorkriverroundtable.org
SUMMARY:Stargazing at York River State Park
DESCRIPTION:Join the Virginia Peninsula Stargazers as they point out the different items of our solar system in the night sky.  They will have the equipment.  Just bring your curiosity.  This program is dependent on the clarity of the viewing sky on the night it occurs. Learn more information here!
URL:https://yorkriverroundtable.org/event/stargazing-at-york-river-state-park-2/
END:VEVENT
BEGIN:VEVENT
DTSTART;TZID=UTC:20240928T100000
DTEND;TZID=UTC:20240928T140000
DTSTAMP:20260425T134138
CREATED:20240904T131959Z
LAST-MODIFIED:20240904T131959Z
UID:3325-1727517600-1727532000@yorkriverroundtable.org
SUMMARY:York County's 5th Annual BugFest
DESCRIPTION:BugFest is back! York County Mosquito Control\, Public Library\, and Parks & Recreation invite you to celebrate bugs at their 5th Annual BugFest. The festival will include insect displays\, local experts with bug facts\, Bug Talks\, crafts\, activities\, and more! Bug-themed Story Time will take place in the auditorium. Learn more here.
URL:https://yorkriverroundtable.org/event/york-countys-5th-annual-bugfest/
END:VEVENT
BEGIN:VEVENT
DTSTART;TZID=UTC:20240926T190000
DTEND;TZID=UTC:20240926T200000
DTSTAMP:20260425T134138
CREATED:20240904T131728Z
LAST-MODIFIED:20240904T131728Z
UID:3323-1727377200-1727380800@yorkriverroundtable.org
SUMMARY:VIMS After Hours: Getting down in “The Weeds” with Virginia’s Underwater Gardens
DESCRIPTION:Join VIMS for the September After Hours lecture where Dr. Christopher Patrick\, Associate Professor at VIMS and the Director of the Submerged Aquatic Vegetation (SAV) Restoration & Monitoring Program\, will discuss historic seagrass restoration projects and successes led by scientists at VIMS\, the continuing mapping and and monitoring of Chesapeake Bay seagrasses through the Chesapeake Bay SAV Mapping Program\, and recent advancements in seagrass restoration science and advisory services. REGISTER & LEARN MORE HERE!
URL:https://yorkriverroundtable.org/event/vims-after-hours-getting-down-in-the-weeds-with-virginias-underwater-gardens/
END:VEVENT
BEGIN:VEVENT
DTSTART;TZID=UTC:20240924T093000
DTEND;TZID=UTC:20240924T160000
DTSTAMP:20260425T134138
CREATED:20240905T201905Z
LAST-MODIFIED:20240905T201905Z
UID:3371-1727170200-1727193600@yorkriverroundtable.org
SUMMARY:Virginia Water Monitoring Council Conference
DESCRIPTION:The conference runs from 9:30 a.m. to 4 p.m. (doors open at 9:00 a.m.) at the Virginia Public Safety Training Facility in Hanover\, VA. Learn more and register here!
URL:https://yorkriverroundtable.org/event/virginia-water-monitoring-council-conference-2/
END:VEVENT
BEGIN:VEVENT
DTSTART;TZID=UTC:20240924T090000
DTEND;TZID=UTC:20240924T170000
DTSTAMP:20260425T134138
CREATED:20240904T142900Z
LAST-MODIFIED:20240904T142900Z
UID:3333-1727168400-1727197200@yorkriverroundtable.org
SUMMARY:Building Risk Communications Skills Workshop
DESCRIPTION:Learn more and register here by September 10!
URL:https://yorkriverroundtable.org/event/building-risk-communications-skills-workshop/
END:VEVENT
BEGIN:VEVENT
DTSTART;TZID=UTC:20240923T120000
DTEND;TZID=UTC:20240923T130000
DTSTAMP:20260425T134138
CREATED:20240905T202041Z
LAST-MODIFIED:20240905T202041Z
UID:3373-1727092800-1727096400@yorkriverroundtable.org
SUMMARY:Evaluating the Effectiveness of Economic Incentives
DESCRIPTION:Join the Hughes Center staff for a virtual lunch on September 23 at 12:00 pm\, featuring environmental and resource economist\, Dr. David Newburn.\nDr. Newburn will share his research findings from his study: “Evaluating the Effectiveness of Economic Incentives to Enhance Riparian Buffer Adoption and Environmental Benefits for Water Quality and Carbon Sequestration.” Learn more and register here!
URL:https://yorkriverroundtable.org/event/evaluating-the-effectiveness-of-economic-incentives/
END:VEVENT
BEGIN:VEVENT
DTSTART;TZID=UTC:20240921T130000
DTEND;TZID=UTC:20240921T150000
DTSTAMP:20260425T134138
CREATED:20240905T184847Z
LAST-MODIFIED:20240905T202218Z
UID:3361-1726923600-1726930800@yorkriverroundtable.org
SUMMARY:Dabble in Discovery at York River State Park
DESCRIPTION:Join a York River State Park naturalist/ranger who will help you discover the aquatic\, insect\, mammal\, and plant life in the park’s ecosystems. Learn more here!
URL:https://yorkriverroundtable.org/event/dabble-in-discovery-2/
END:VEVENT
BEGIN:VEVENT
DTSTART;TZID=UTC:20240921T100000
DTEND;TZID=UTC:20240921T120000
DTSTAMP:20260425T134138
CREATED:20240905T184707Z
LAST-MODIFIED:20240905T202223Z
UID:3359-1726912800-1726920000@yorkriverroundtable.org
SUMMARY:Fossil Frenzy Hike at York River State Park
DESCRIPTION:Long before there was a York River State Park\, or even a York River\, 6\,000 plus years ago\, marine creatures swam here in a shallow sea. Early whales\, porpoises\, sharks\, clams\, scallops\, and snails all left traces of their existence which we now find as fossils. Join York River State Park in discovering relics of these very old creatures as we hike to a fossil beach. Learn more information here!
URL:https://yorkriverroundtable.org/event/fossil-frenzy-hike-2/
END:VEVENT
BEGIN:VEVENT
DTSTART;TZID=UTC:20240919T130000
DTEND;TZID=UTC:20240919T140000
DTSTAMP:20260425T134138
CREATED:20240904T143510Z
LAST-MODIFIED:20240904T143510Z
UID:3337-1726750800-1726754400@yorkriverroundtable.org
SUMMARY:Be a Better Coastal Adaptation Practitioner with Behavior Change
DESCRIPTION:Presented by: Caroly Shumway of the Center for Behavior and Climate (CBC) \nHow do you motivate people to respond to adaptation messages and reduce their risk? The key is to feel that they can actually do something and that their action matters — what behavioral scientists call perceived behavioral control and response efficacy\, respectively. Three years ago\, the Center for Behavior and Climate’s webinar described nine principles behind behavior change for climate action for the oceans and beyond. In this webinar\, the Center for Behavior and Climate will show you how to incorporate behavioral tools into your coastal adaptation efforts to improve the likelihood of success for community projects and policy initiatives alike. After learning about the behavior change process\, we will teach you five evidence-based techniques (social norms\, efficacy\, legacy motivation\, nudge\, and framing to reach different audiences). Synthesizing the latest behavioral science from academics to practitioners\, this transdisciplinary and interdisciplinary webinar offers a preview of CBC’s first-of-its-kind online course on Behavior Change for Climate Adaptation. Expected outcomes are increased understanding of how to apply behavior change in your own work. \nLearn more and register here!
URL:https://yorkriverroundtable.org/event/be-a-better-coastal-adaptation-practitioner-with-behavior-change/
END:VEVENT
BEGIN:VEVENT
DTSTART;VALUE=DATE:20240919
DTEND;VALUE=DATE:20240920
DTSTAMP:20260425T134138
CREATED:20240904T143053Z
LAST-MODIFIED:20240904T143053Z
UID:3335-1726704000-1726790399@yorkriverroundtable.org
SUMMARY:Sovereign Nations of Virginia Conference: Pathways to Partnership: Enhancing Trust through Tribal Consultation
DESCRIPTION:Registration and more information here! They have reached the in-person capacity but still have a remote connection option.
URL:https://yorkriverroundtable.org/event/sovereign-nations-of-virginia-conference-pathways-to-partnership-enhancing-trust-through-tribal-consultation/
END:VEVENT
BEGIN:VEVENT
DTSTART;TZID=UTC:20240918T180000
DTEND;TZID=UTC:20240918T200000
DTSTAMP:20260425T134138
CREATED:20240904T131434Z
LAST-MODIFIED:20240904T131434Z
UID:3321-1726682400-1726689600@yorkriverroundtable.org
SUMMARY:CBNERR-VA Discovery Lab - Predators of the Skies
DESCRIPTION:For fish in the Chesapeake Bay\, it’s a fish eat fish world – but they can’t forget about the predators from above! From eagles and osprey – to cormorants\, pelicans\, and heron – birds flock to the water to hunt and feast. This Discovery Lab will be all about birds! Anna Caputo\, Marine Education Specialist at the Chesapeake Bay National Estuarine Research Reserve in Virginia (CBNERR-VA)\, will talk about the importance of birds in the Chesapeake Bay region. See you there! \nDiscovery Labs are free\, family-friendly programs provided each month by CBNERR-VA at VIMS. Designed with elementary-aged youth and their parents in mind\, each lab focuses on a different topic related to the Chesapeake Bay and our local environment and includes exhibits\, demonstrations\, and hands-on activities as well as a short presentation (from 6:30-7:00 PM) by an expert on the topic. REGISTER & LEARN MORE HERE!
URL:https://yorkriverroundtable.org/event/cbnerr-va-discovery-lab-predators-of-the-skies/
END:VEVENT
BEGIN:VEVENT
DTSTART;TZID=UTC:20240918T150000
DTEND;TZID=UTC:20240918T160000
DTSTAMP:20260425T134138
CREATED:20240904T145329Z
LAST-MODIFIED:20240904T145329Z
UID:3342-1726671600-1726675200@yorkriverroundtable.org
SUMMARY:Assessing Community Vulnerabilities to Potential Contaminant Releases from Extreme Events
DESCRIPTION:Extreme events (e.g.\, excessive heat\, droughts\, floods\, wildfires) are projected to be more frequent and intense under future climate scenarios. During extreme events\, contaminated sites and waste management facilities have the potential to release contaminants and impact nearby communities. Understanding the risks to communities from potential exposures to water- and airborne contaminants underlies preparedness\, emergency response\, and mitigation planning. \nTo better understand and communicate what is known and unknown about such risks\, EPA ORD developed indicators of environmental\, public health\, socioeconomic\, or other conditions to assess community vulnerabilities to potential contaminant releases from extreme events. The Handbook on Indicators of Community Vulnerability to Extreme Events: Considering Sites and Waste Management Facilities provides the conceptual framework and indicators approach. Example applications of this research include: \n\nIdentifying areas that are potentially vulnerable and the sources of their vulnerabilities.\nCommunicating how extreme events may impact such sites/waste facilities and the surrounding community.\nDeveloping targeted strategies to prepare for and prevent potential health and environmental impacts.\n\nThis webinar will present methods that teams of planners\, decision-makers\, and technical advisors\, scientific researchers\, environmental advocates\, and community organizations may apply to screen for vulnerabilities and to communicate and focus resources effectively. The indicators were developed using publicly available datasets and in close collaboration with EPA and regional\, state\, and local partners. Collections of these indicators will be presented\, as developed with partners including North Carolina Department of Environmental Quality\, the City of Phoenix and Maricopa County\, Arizona\, and the Office of Land and Emergency Management. \nLearn more and register here!
URL:https://yorkriverroundtable.org/event/assessing-community-vulnerabilities-to-potential-contaminant-releases-from-extreme-events/
END:VEVENT
BEGIN:VEVENT
DTSTART;TZID=UTC:20240918T120000
DTEND;TZID=UTC:20240918T130000
DTSTAMP:20260425T134138
CREATED:20240905T154746Z
LAST-MODIFIED:20240905T154746Z
UID:3349-1726660800-1726664400@yorkriverroundtable.org
SUMMARY:Flotsam and Jetsam: Fighting Debris in the Chesapeake Bay Watershed
DESCRIPTION:Learn more and register here!
URL:https://yorkriverroundtable.org/event/flotsam-and-jetsam-fighting-debris-in-the-chesapeake-bay-watershed/
END:VEVENT
BEGIN:VEVENT
DTSTART;TZID=UTC:20240914T080000
DTEND;TZID=UTC:20240914T110000
DTSTAMP:20260425T134138
CREATED:20240903T173345Z
LAST-MODIFIED:20240903T173345Z
UID:3316-1726300800-1726311600@yorkriverroundtable.org
SUMMARY:International Coastal Clean Up: Gloucester!
DESCRIPTION:The rising tide of marine debris threatens human health\, wildlife\, communities\, and economies around the world. The International Coastal Cleanup is the world’s largest volunteer effort on behalf of ocean and waterway health.  Join us to help clean our waterway AND collect data about what we clean up. \nWe will need people for cleanup duty AND people for clipboard-trash-tally duty. \nBring your own gloves\, drinks and snacks. Be sure to dress appropriately for the beach and weather conditions. \nClean Community will provide grabbers\, buckets\, bags\, clipboards\, data sheets. \nLEARN MORE AND REGISTER HERE!
URL:https://yorkriverroundtable.org/event/international-coastal-clean-up-gloucester/
LOCATION:1255 Greate Road\, Gloucester Point\, VA\, 23062
END:VEVENT
BEGIN:VEVENT
DTSTART;TZID=UTC:20240912T013000
DTEND;TZID=UTC:20240912T143000
DTSTAMP:20260425T134138
CREATED:20240904T144326Z
LAST-MODIFIED:20240904T144326Z
UID:3339-1726104600-1726151400@yorkriverroundtable.org
SUMMARY:Best Practices For Continuous Monitoring
DESCRIPTION:The Maryland Water Monitoring Council’s Information Management and Communication Committee is delighted to announce a webinar on Best Practices for Continuous Monitoring. Learn more and register here!
URL:https://yorkriverroundtable.org/event/best-practices-for-continuous-monitoring/
END:VEVENT
BEGIN:VEVENT
DTSTART;TZID=UTC:20240910T150000
DTEND;TZID=UTC:20240910T160000
DTSTAMP:20260425T134138
CREATED:20240905T181551Z
LAST-MODIFIED:20240905T181551Z
UID:3351-1725980400-1725984000@yorkriverroundtable.org
SUMMARY:Brownfields\, Gentrification\, and Environmental Justice Research: Learning from Past Experiences​
DESCRIPTION:Learn more and register here!
URL:https://yorkriverroundtable.org/event/brownfields-gentrification-and-environmental-justice-research-learning-from-past-experiences/
END:VEVENT
BEGIN:VEVENT
DTSTART;TZID=UTC:20240907T193000
DTEND;TZID=UTC:20240907T223000
DTSTAMP:20260425T134138
CREATED:20240905T183901Z
LAST-MODIFIED:20240905T183901Z
UID:3357-1725737400-1725748200@yorkriverroundtable.org
SUMMARY:Stargazing at York River State Park
DESCRIPTION:Join the Virginia Peninsula Stargazers as they point out the different items of our solar system in the night sky.  They will have the equipment.  Just bring your curiosity.  This program is dependent on the clarity of the viewing sky on the night it occurs. Learn more information here!
URL:https://yorkriverroundtable.org/event/stargazing-at-york-river-state-park/
END:VEVENT
BEGIN:VEVENT
DTSTART;TZID=UTC:20240907T130000
DTEND;TZID=UTC:20240907T150000
DTSTAMP:20260425T134138
CREATED:20240905T183748Z
LAST-MODIFIED:20240905T202247Z
UID:3355-1725714000-1725721200@yorkriverroundtable.org
SUMMARY:Dabble in Discovery at York River State Park
DESCRIPTION:Join a York River State Park naturalist/ranger who will help you discover the aquatic\, insect\, mammal\, and plant life in the park’s ecosystems. Learn more here!
URL:https://yorkriverroundtable.org/event/dabble-in-discovery/
END:VEVENT
BEGIN:VEVENT
DTSTART;TZID=UTC:20240907T100000
DTEND;TZID=UTC:20240907T120000
DTSTAMP:20260425T134138
CREATED:20240905T183628Z
LAST-MODIFIED:20240905T202252Z
UID:3353-1725703200-1725710400@yorkriverroundtable.org
SUMMARY:Stream to Sea Stroll at York River State Park
DESCRIPTION:Join York River State Park and take a walk to discover life in four different aquatic ecosystems.  Learn more information here!
URL:https://yorkriverroundtable.org/event/stream-to-sea-stroll/
END:VEVENT
END:VCALENDAR